BEGIN:VCALENDAR
VERSION:2.0
PRODID:-//Minnesota Women&#039;s Economic Roundtable - ECPv6.6.4.2//NONSGML v1.0//EN
CALSCALE:GREGORIAN
METHOD:PUBLISH
X-WR-CALNAME:Minnesota Women&#039;s Economic Roundtable
X-ORIGINAL-URL:https://mwer.org
X-WR-CALDESC:Events for Minnesota Women&#039;s Economic Roundtable
REFRESH-INTERVAL;VALUE=DURATION:PT1H
X-Robots-Tag:noindex
X-PUBLISHED-TTL:PT1H
BEGIN:VTIMEZONE
TZID:America/Chicago
BEGIN:DAYLIGHT
TZOFFSETFROM:-0600
TZOFFSETTO:-0500
TZNAME:CDT
DTSTART:20250309T080000
END:DAYLIGHT
BEGIN:STANDARD
TZOFFSETFROM:-0500
TZOFFSETTO:-0600
TZNAME:CST
DTSTART:20251102T070000
END:STANDARD
END:VTIMEZONE
BEGIN:VEVENT
DTSTART;TZID=America/Chicago:20250812T170000
DTEND;TZID=America/Chicago:20250812T193000
DTSTAMP:20260421T040126
CREATED:20250710T064428Z
LAST-MODIFIED:20250710T065057Z
UID:10000041-1755018000-1755027000@mwer.org
SUMMARY:Summer Social - August 2025 (In Person and Members Only)
DESCRIPTION: EVENT INFORMATION \nWe are thrilled to invite you to the MWER Summer Social – an evening of connection\, community\, and celebration hosted by The Women’s Foundation of Minnesota. The Foundation is located in the historic Crown Roller Mill Building in the Mill District of Minneapolis. We’ll gather on the rooftop terrace (weather permitting)\, accessible via the stairs or elevator to the second floor. In case of inclement weather\, we’ll shift indoors to the beautiful second-floor atrium. Wine will be generously provided by our hosts. We’ll have a delicious spread of heavy appetizers and non-alcoholic beverages as we unwind together in a welcoming\, inspiring space. A huge thank you to Gloria Perez and the team at the Women’s Foundation for their warmth and generosity in hosting us. We can’t wait to see you there and raise a glass to summer\, women in leadership\, and our shared work to advance women’s economic power.
URL:https://mwer.org/dashboard/events/summer-social-august-2025-in-person-only/
LOCATION:Women’s Foundation of Minnesota\, 105 5th Ave S\, Ste 525\, Minneapolis\, 55401\, United States
ATTACH;FMTTYPE=image/jpeg:https://mwer.org/wp-content/uploads/2025/07/Social.jpg
ORGANIZER;CN="MWER":MAILTO:info@mwer.org
END:VEVENT
END:VCALENDAR