BEGIN:VCALENDAR
VERSION:2.0
PRODID:-//Minnesota Women&#039;s Economic Roundtable - ECPv6.6.4.2//NONSGML v1.0//EN
CALSCALE:GREGORIAN
METHOD:PUBLISH
X-ORIGINAL-URL:https://mwer.org
X-WR-CALDESC:Events for Minnesota Women&#039;s Economic Roundtable
REFRESH-INTERVAL;VALUE=DURATION:PT1H
X-Robots-Tag:noindex
X-PUBLISHED-TTL:PT1H
BEGIN:VTIMEZONE
TZID:America/Chicago
BEGIN:DAYLIGHT
TZOFFSETFROM:-0600
TZOFFSETTO:-0500
TZNAME:CDT
DTSTART:20260308T080000
END:DAYLIGHT
BEGIN:STANDARD
TZOFFSETFROM:-0500
TZOFFSETTO:-0600
TZNAME:CST
DTSTART:20261101T070000
END:STANDARD
END:VTIMEZONE
BEGIN:VEVENT
DTSTART;TZID=America/Chicago:20260603T120000
DTEND;TZID=America/Chicago:20260603T133000
DTSTAMP:20260421T074043
CREATED:20250919T155630Z
LAST-MODIFIED:20251204T144942Z
UID:10000046-1780488000-1780493400@mwer.org
SUMMARY:Monthly Meeting - June 2026 - The Changing Landscape of Philanthropy
DESCRIPTION:EVENT INFORMATION \nAdditional information will be available soon!
URL:https://mwer.org/dashboard/events/monthly-meeting-june-2026/
LOCATION:The Minneapolis Club\, 729 2nd Ave S\, Minneapolis\, 55402\, United States
ORGANIZER;CN="MWER":MAILTO:info@mwer.org
END:VEVENT
BEGIN:VEVENT
DTSTART;TZID=America/Chicago:20260812T120000
DTEND;TZID=America/Chicago:20260812T133000
DTSTAMP:20260421T074043
CREATED:20250919T155908Z
LAST-MODIFIED:20260119T191123Z
UID:10000047-1786536000-1786541400@mwer.org
SUMMARY:Monthly Meeting - August 2026 - A Conversation with Senator Tina Smith
DESCRIPTION:EVENT INFORMATION \nAdditional information will be available soon!
URL:https://mwer.org/dashboard/events/monthly-meeting-august-2026/
LOCATION:The Minneapolis Club\, 729 2nd Ave S\, Minneapolis\, 55402\, United States
ORGANIZER;CN="MWER":MAILTO:info@mwer.org
END:VEVENT
BEGIN:VEVENT
DTSTART;TZID=America/Chicago:20260902T120000
DTEND;TZID=America/Chicago:20260902T133000
DTSTAMP:20260421T074043
CREATED:20250919T160151Z
LAST-MODIFIED:20260129T012504Z
UID:10000048-1788350400-1788355800@mwer.org
SUMMARY:Monthly Meeting - September 2026 - Founders of MWER
DESCRIPTION:EVENT INFORMATION \nAdditional information will be available soon!
URL:https://mwer.org/dashboard/events/monthly-meeting-september-2026/
LOCATION:The Minneapolis Club\, 729 2nd Ave S\, Minneapolis\, 55402\, United States
ORGANIZER;CN="MWER":MAILTO:info@mwer.org
END:VEVENT
BEGIN:VEVENT
DTSTART;TZID=America/Chicago:20261007T120000
DTEND;TZID=America/Chicago:20261007T133000
DTSTAMP:20260421T074043
CREATED:20250919T160600Z
LAST-MODIFIED:20260131T005313Z
UID:10000049-1791374400-1791379800@mwer.org
SUMMARY:Monthly Meeting - October 2026 - The 2026 Midterm Elections: A Discussion with Professor Kathryn Pearson
DESCRIPTION:EVENT INFORMATION \nPolitical Science Professor Kathryn Pearson will share insights on the upcoming U.S. House and Senate elections and Minnesota elections\, with a focus on the issues that are most important to women\, women’s candidacies\, and the impact of the 2026 elections. \nSPEAKER INFORMATION \nKathryn Pearson is a Professor of Political Science at the University of Minnesota specializing in American politics; her research and teaching focuses on the United States Congress\, women & politics\, and congressional elections. She is also the director of the University Honors Program and an Associate Dean of Undergraduate Education. Professor Pearson received her Ph.D. from the University of California\, Berkeley in 2005. Before receiving her doctorate\, Pearson was a Research Fellow at the Brookings Institution and she worked on Capitol Hill as a Legislative Assistant for two congresswomen.
URL:https://mwer.org/dashboard/events/monthly-meeting-october-2026/
LOCATION:The Minneapolis Club\, 729 2nd Ave S\, Minneapolis\, 55402\, United States
ATTACH;FMTTYPE=image/png:https://mwer.org/wp-content/uploads/2025/09/MWER-Speakers-copy.png
ORGANIZER;CN="MWER":MAILTO:info@mwer.org
END:VEVENT
BEGIN:VEVENT
DTSTART;TZID=America/Chicago:20261104T120000
DTEND;TZID=America/Chicago:20261104T133000
DTSTAMP:20260421T074043
CREATED:20250919T160841Z
LAST-MODIFIED:20251204T145028Z
UID:10000050-1793793600-1793799000@mwer.org
SUMMARY:Monthly Meeting - November 2026 - Female CEO Fireside Chat
DESCRIPTION:EVENT INFORMATION \nAdditional information will be available soon!
URL:https://mwer.org/dashboard/events/monthly-meeting-november-2026/
LOCATION:The Minneapolis Club\, 729 2nd Ave S\, Minneapolis\, 55402\, United States
ORGANIZER;CN="MWER":MAILTO:info@mwer.org
END:VEVENT
BEGIN:VEVENT
DTSTART;TZID=America/Chicago:20261202T120000
DTEND;TZID=America/Chicago:20261202T133000
DTSTAMP:20260421T074043
CREATED:20250919T161321Z
LAST-MODIFIED:20250919T161321Z
UID:10000051-1796212800-1796218200@mwer.org
SUMMARY:Monthly Meeting - December 2026 - Networking Luncheon (In Person Only)
DESCRIPTION: EVENT INFORMATION \n \nJoin MWER for a relaxing networking luncheon filled with holiday cheer. You’ll have a perfect opportunity to engage with fellow members and hear about upcoming events.
URL:https://mwer.org/dashboard/events/monthly-meeting-december-2026-networking-luncheon-in-person-only/
LOCATION:The Minneapolis Club\, 729 2nd Ave S\, Minneapolis\, 55402\, United States
ATTACH;FMTTYPE=image/png:https://mwer.org/wp-content/uploads/2024/03/Screenshot-2024-10-26-at-5.45.22-PM.png
ORGANIZER;CN="MWER":MAILTO:info@mwer.org
END:VEVENT
END:VCALENDAR